BEGIN:VCALENDAR
VERSION:2.0
PRODID:-//hacksw/handcal//NONSGML v1.0//EN
BEGIN:VEVENT
SUMMARY:Le saucisson des aigles affames!
UID:b4da9aa8-0530-428f-b67d-ea8f8a6d40de
DTSTART:20260531T070000Z
DTEND:20260531T163000Z
LOCATION:Localisation   
CATEGORIES:Sportif
STATUS:
DESCRIPTION:<p>🦅🔥 <strong>LE SAUCISSON DES AIGLES
 AFFAMES</strong> 🔥🦅</p>
 
 <p>Les Archers des Aigles des Greneaux
 vous donnent rendez-vous pour un tir aussi convivial que gourmand !
 🏹🍖</p>
 
 <p>📅 <strong>Dimanche 31 mai 2026</strong><br>
 🕘
 <strong>A partir de 9h00</strong><br>
 📍 <strong>Marchais-en-Brie
 (02)</strong></p>
 
 <p>🎯 Au programme :<br>
 • 3 distances
 (jusqu’a 30m)<br>
 • 10 volees de 3 fleches<br>
 • Possibilite de
 rejouer pour ameliorer son score<br>
 • Tir fun sur cibles
 “saucisson” 😄</p>
 
 <p>🏆 <strong>Recompenses
 :</strong><br>
 ➡️ Saucissons artisanaux de la region<br>
 ➡️
 Pour les 3 premiers adultes et jeunes (-17 ans)<br>
 ➡️ Remise des
 prix vers 18h</p>
 
 <p>🍴 <strong>Buvette & restauration sur
 place</strong><br>
 Repas a 10€ (sur reservation) :<br>
 🥪
 Sandwich au choix<br>
 🍟 Chips<br>
 🍎 Salade de fruits<br>
 💧
 Boisson</p>
 
 <p>👉 <strong>Ouvert aux licencies FFTL, FFTA et
 UFOLEP</strong><br>
 👉 <strong>Sans poulies ni
 viseurs</strong></p>
 
 <p>💥 Une seule regle : viser juste… pour
 repartir avec le saucisson !</p>
 
 <p>📞 Infos / inscription
 :<br>
 06 35 39 26 84<br>
 📧 <a
 href="mailto:archersaigles02@gmail.com">archersaigles02@gmail.com</a></p>
 
 <p>🏹
 Venez tenter votre chance et partager un moment unique avec les
 Aigles !</p>
 
 <p>#tiralarc #archery #tiramusette #saucisson
 #evenement #archers #aisne #hautsdefrance #convivialite #club
 #sportnature #3Darchery #archersdesaigles</p>
URL;VALUE=URI:https://lesarchersdesaiglesdesgreneaux.sportsregions.fr/evenements/2026/05/31/le-saucisson-des-aigles-affames-2441023
END:VEVENT
END:VCALENDAR
