BEGIN:VCALENDAR
VERSION:2.0
PRODID:-//hacksw/handcal//NONSGML v1.0//EN
BEGIN:VEVENT
SUMMARY:Concours 3D - 1ere Compagnie d'Arc du Chaourcois
UID:a85f57b8-5463-4384-975a-ed4be121187c
DTSTART:20260329T060000Z
DTEND:20260329T160000Z
LOCATION:Localisation Site forestier du lycee de Crogny 10210 LES LOGES MARGUERON
CATEGORIES:Sportif
STATUS:
DESCRIPTION:<p>24 cibles - 2 departs</p>
 
 <p>Ouverture du greffe
 matin : 8h10   _ apres-midi : 13H15</p>
 
 <p>Peloton de 4 archers
 (max. 2 archers du meme club par peloton)</p>
 
 <p> </p>
URL;VALUE=URI:https://lesarchersdesaiglesdesgreneaux.sportsregions.fr/evenements/2026/03/29/concours-3d-1ere-compagnie-darc-du-chaourcois-2428450
END:VEVENT
END:VCALENDAR
