BEGIN:VCALENDAR
VERSION:2.0
PRODID:-//hacksw/handcal//NONSGML v1.0//EN
BEGIN:VEVENT
SUMMARY:Concours 3D - Marcoussis
UID:94e9e416-c986-4082-be29-eb9c4e12df6d
DTSTART:20260315T061500Z
DTEND:20260315T170000Z
LOCATION:Localisation   
CATEGORIES:Sportif
STATUS:
URL;VALUE=URI:https://lesarchersdesaiglesdesgreneaux.sportsregions.fr/evenements/2026/03/15/concours-3d-marcoussis-2428477
END:VEVENT
END:VCALENDAR
